BEGIN:VCALENDAR
VERSION:2.0
PRODID:-//Washington County Pathfinder - ECPv6.15.17//NONSGML v1.0//EN
CALSCALE:GREGORIAN
METHOD:PUBLISH
X-ORIGINAL-URL:https://washcopathfinder.com
X-WR-CALDESC:Events for Washington County Pathfinder
REFRESH-INTERVAL;VALUE=DURATION:PT1H
X-Robots-Tag:noindex
X-PUBLISHED-TTL:PT1H
BEGIN:VTIMEZONE
TZID:UTC
BEGIN:STANDARD
TZOFFSETFROM:+0000
TZOFFSETTO:+0000
TZNAME:UTC
DTSTART:20170101T000000
END:STANDARD
END:VTIMEZONE
BEGIN:VEVENT
DTSTART;TZID=UTC:20180710T073000
DTEND;TZID=UTC:20180710T090000
DTSTAMP:20260424T203312
CREATED:20180629T172934Z
LAST-MODIFIED:20180629T172947Z
UID:1003749-1531207800-1531213200@washcopathfinder.com
SUMMARY:Community Walk Audit - Downtown Hagerstown
DESCRIPTION:Join us for a community walk audit in downtown Hagerstown. What is a walk audit? A walk audit is where a group of people walk around an area and rate how walkable it is\, meaning how easy and pleasant is it to walk there. We hope to conduct walk audits in downtown areas around Washington County and we’re starting with downtown Hagerstown. The goal is to assess how walkable Washington County is and to find ways that walkability can be improved in the county. \nFree breakfast will be offered at 7:30am at the Washington County Chamber of Commerce at 1 South Potomac St.
URL:https://washcopathfinder.com/event/community-walk-audit-downtown-hagerstown/
LOCATION:Washington County Camber of Commerce\, 1 South Potomac Street\, Hagerstown\, MD\, 21740\, United States
END:VEVENT
END:VCALENDAR